BEGIN:VCALENDAR
VERSION:2.0
PRODID:-//24-7worldwide.com - ECPv6.15.20//NONSGML v1.0//EN
CALSCALE:GREGORIAN
METHOD:PUBLISH
X-WR-CALNAME:24-7worldwide.com
X-ORIGINAL-URL:https://24-7worldwide.com
X-WR-CALDESC:Events for 24-7worldwide.com
REFRESH-INTERVAL;VALUE=DURATION:PT1H
X-Robots-Tag:noindex
X-PUBLISHED-TTL:PT1H
BEGIN:VTIMEZONE
TZID:Europe/London
BEGIN:DAYLIGHT
TZOFFSETFROM:+0000
TZOFFSETTO:+0100
TZNAME:BST
DTSTART:20250330T010000
END:DAYLIGHT
BEGIN:STANDARD
TZOFFSETFROM:+0100
TZOFFSETTO:+0000
TZNAME:GMT
DTSTART:20251026T010000
END:STANDARD
BEGIN:DAYLIGHT
TZOFFSETFROM:+0000
TZOFFSETTO:+0100
TZNAME:BST
DTSTART:20260329T010000
END:DAYLIGHT
BEGIN:STANDARD
TZOFFSETFROM:+0100
TZOFFSETTO:+0000
TZNAME:GMT
DTSTART:20261025T010000
END:STANDARD
BEGIN:DAYLIGHT
TZOFFSETFROM:+0000
TZOFFSETTO:+0100
TZNAME:BST
DTSTART:20270328T010000
END:DAYLIGHT
BEGIN:STANDARD
TZOFFSETFROM:+0100
TZOFFSETTO:+0000
TZNAME:GMT
DTSTART:20271031T010000
END:STANDARD
END:VTIMEZONE
BEGIN:VEVENT
DTSTART;TZID=Europe/London:20260420T080000
DTEND;TZID=Europe/London:20260424T170000
DTSTAMP:20260424T120540
CREATED:20251218T115411Z
LAST-MODIFIED:20251218T115411Z
UID:8387-1776672000-1777050000@24-7worldwide.com
SUMMARY:CeMAT/COMVAC - Hannover
DESCRIPTION:
URL:https://24-7worldwide.com/event/cemat-comvac-hannover/
END:VEVENT
BEGIN:VEVENT
DTSTART;TZID=Europe/London:20260421T080000
DTEND;TZID=Europe/London:20260424T170000
DTSTAMP:20260424T120540
CREATED:20251218T120030Z
LAST-MODIFIED:20251218T120030Z
UID:8391-1776758400-1777050000@24-7worldwide.com
SUMMARY:Techtextil and Techprocess - Frankfurt
DESCRIPTION:
URL:https://24-7worldwide.com/event/techtextil-and-techprocess-frankfurt/
END:VEVENT
BEGIN:VEVENT
DTSTART;TZID=Europe/London:20260421T080000
DTEND;TZID=Europe/London:20260426T170000
DTSTAMP:20260424T120540
CREATED:20251218T115907Z
LAST-MODIFIED:20251218T115907Z
UID:8389-1776758400-1777222800@24-7worldwide.com
SUMMARY:EuroCucina - Milan
DESCRIPTION:
URL:https://24-7worldwide.com/event/eurocucina-milan/
END:VEVENT
BEGIN:VEVENT
DTSTART;TZID=Europe/London:20260422T080000
DTEND;TZID=Europe/London:20260425T170000
DTSTAMP:20260424T120540
CREATED:20251218T120139Z
LAST-MODIFIED:20251218T120139Z
UID:8393-1776844800-1777136400@24-7worldwide.com
SUMMARY:Aero Expo - Friedrichshafen
DESCRIPTION:
URL:https://24-7worldwide.com/event/aero-expo-friedrichshafen/
END:VEVENT
END:VCALENDAR